BEGIN:VCALENDAR
VERSION:2.0
PRODID:-//wp-events-plugin.com//7.2.3.1//EN
TZID:Europe/Berlin
X-WR-TIMEZONE:Europe/Berlin
BEGIN:VEVENT
UID:442@zur-alten-linde.de
DTSTART;TZID=Europe/Berlin:20241109T123000
DTEND;TZID=Europe/Berlin:20241109T153000
DTSTAMP:20241020T090052Z
URL:https://www.zur-alten-linde.de/events/taii-instructions/
SUMMARY:TAII Instructions - Forget Me Not 
DESCRIPTION:Brr.: 3rd degree
CATEGORIES:Forget Me Not
END:VEVENT
BEGIN:VTIMEZONE
TZID:Europe/Berlin
X-LIC-LOCATION:Europe/Berlin
BEGIN:STANDARD
DTSTART:20241027T020000
TZOFFSETFROM:+0200
TZOFFSETTO:+0100
TZNAME:CET
END:STANDARD
END:VTIMEZONE
END:VCALENDAR