BEGIN:VCALENDAR
VERSION:2.0
PRODID:-//wp-events-plugin.com//7.2.3.1//EN
TZID:Europe/Berlin
X-WR-TIMEZONE:Europe/Berlin
BEGIN:VEVENT
UID:675@zur-alten-linde.de
DTSTART;TZID=Europe/Berlin:20260704T160000
DTEND;TZID=Europe/Berlin:20260704T193000
DTSTAMP:20260202T125357Z
URL:https://www.zur-alten-linde.de/events/grillnachmittag-mit-schwestern-u
 nd-gaesten/
SUMMARY:Grillnachmittag mit Schwestern und Gästen - Zur alten Linde 
DESCRIPTION:
CATEGORIES:Zur alten Linde
END:VEVENT
BEGIN:VTIMEZONE
TZID:Europe/Berlin
X-LIC-LOCATION:Europe/Berlin
BEGIN:DAYLIGHT
DTSTART:20260329T030000
TZOFFSETFROM:+0100
TZOFFSETTO:+0200
TZNAME:CEST
END:DAYLIGHT
END:VTIMEZONE
END:VCALENDAR