BEGIN:VCALENDAR
VERSION:2.0
PRODID:-//wp-events-plugin.com//7.2.3.1//EN
TZID:Europe/Berlin
X-WR-TIMEZONE:Europe/Berlin
BEGIN:VEVENT
UID:683@zur-alten-linde.de
DTSTART;TZID=Europe/Berlin:20260611T200000
DTEND;TZID=Europe/Berlin:20260611T230000
DTSTAMP:20260202T125014Z
URL:https://www.zur-alten-linde.de/events/clubabend-13/
SUMMARY:Clubabend - Zur alten Linde 
DESCRIPTION:text/html\,ggfs.%20Kugelung.%3Cbr%3EMitgliederversammlung%3Cbr%
 3E(ges.%20Einladung)":ggfs. Kugelung.\nMitgliederversammlung\n(ges. Einlad
 ung)
CATEGORIES:Zur alten Linde
LOCATION:Logenhaus Zur alten Linde\, Landgrafenstr. 170\, Dortmund\, Nordrh
 ein-Westfalen\, 44139\, NRW\, Deutschland
X-APPLE-STRUCTURED-LOCATION;VALUE=URI;X-ADDRESS=Landgrafenstr. 170\, Dortmu
 nd\, Nordrhein-Westfalen\, 44139\, NRW\, Deutschland;X-APPLE-RADIUS=100;X-
 TITLE=Logenhaus Zur alten Linde:geo:0,0
END:VEVENT
BEGIN:VTIMEZONE
TZID:Europe/Berlin
X-LIC-LOCATION:Europe/Berlin
BEGIN:DAYLIGHT
DTSTART:20260329T030000
TZOFFSETFROM:+0100
TZOFFSETTO:+0200
TZNAME:CEST
END:DAYLIGHT
END:VTIMEZONE
END:VCALENDAR